BEGIN:VCALENDAR
VERSION:2.0
PRODID:-//conversationswithourfather - ECPv6.15.20//NONSGML v1.0//EN
CALSCALE:GREGORIAN
METHOD:PUBLISH
X-WR-CALNAME:conversationswithourfather
X-ORIGINAL-URL:https://conversationswithourfather.com
X-WR-CALDESC:Events for conversationswithourfather
REFRESH-INTERVAL;VALUE=DURATION:PT1H
X-Robots-Tag:noindex
X-PUBLISHED-TTL:PT1H
BEGIN:VTIMEZONE
TZID:America/Halifax
BEGIN:DAYLIGHT
TZOFFSETFROM:-0400
TZOFFSETTO:-0300
TZNAME:ADT
DTSTART:20220313T060000
END:DAYLIGHT
BEGIN:STANDARD
TZOFFSETFROM:-0300
TZOFFSETTO:-0400
TZNAME:AST
DTSTART:20221106T050000
END:STANDARD
BEGIN:DAYLIGHT
TZOFFSETFROM:-0400
TZOFFSETTO:-0300
TZNAME:ADT
DTSTART:20230312T060000
END:DAYLIGHT
BEGIN:STANDARD
TZOFFSETFROM:-0300
TZOFFSETTO:-0400
TZNAME:AST
DTSTART:20231105T050000
END:STANDARD
BEGIN:DAYLIGHT
TZOFFSETFROM:-0400
TZOFFSETTO:-0300
TZNAME:ADT
DTSTART:20240310T060000
END:DAYLIGHT
BEGIN:STANDARD
TZOFFSETFROM:-0300
TZOFFSETTO:-0400
TZNAME:AST
DTSTART:20241103T050000
END:STANDARD
END:VTIMEZONE
BEGIN:VTIMEZONE
TZID:America/New_York
BEGIN:DAYLIGHT
TZOFFSETFROM:-0500
TZOFFSETTO:-0400
TZNAME:EDT
DTSTART:20220313T070000
END:DAYLIGHT
BEGIN:STANDARD
TZOFFSETFROM:-0400
TZOFFSETTO:-0500
TZNAME:EST
DTSTART:20221106T060000
END:STANDARD
BEGIN:DAYLIGHT
TZOFFSETFROM:-0500
TZOFFSETTO:-0400
TZNAME:EDT
DTSTART:20230312T070000
END:DAYLIGHT
BEGIN:STANDARD
TZOFFSETFROM:-0400
TZOFFSETTO:-0500
TZNAME:EST
DTSTART:20231105T060000
END:STANDARD
BEGIN:DAYLIGHT
TZOFFSETFROM:-0500
TZOFFSETTO:-0400
TZNAME:EDT
DTSTART:20240310T070000
END:DAYLIGHT
BEGIN:STANDARD
TZOFFSETFROM:-0400
TZOFFSETTO:-0500
TZNAME:EST
DTSTART:20241103T060000
END:STANDARD
END:VTIMEZONE
BEGIN:VEVENT
DTSTART;TZID=America/Halifax:20230917T160000
DTEND;TZID=America/Halifax:20230917T180000
DTSTAMP:20260423T130825
CREATED:20230708T013805Z
LAST-MODIFIED:20230708T015013Z
UID:253-1694966400-1694973600@conversationswithourfather.com
SUMMARY:Loving Me: After Abuse - Book Release Celebration
DESCRIPTION:You are invited to join Angela in celebrating the release of her new book\, Loving Me: After Abuse. \nThis book serves as a comforting conversation with a friend for those left heartbroken after going through abuse. Throughout this book\, Angela delves deeply into the pain and struggle that follows trauma caused by abuse. \nHaving survived fourteen years of childhood sexual\, physical\, and emotional abuse\, Angela candidly shares her journey to overcome the shame and dysfunction that it caused. Her ultimate goal in sharing her personal story is to aid others on their journey toward healing and to share the power of Jesus Christ to overcome daily struggles.
URL:https://conversationswithourfather.com/event/loving-me-after-abuse-book-release-celebration/
LOCATION:DK Gallery\, 25 West Park Square\, Marietta\, GA\, 30060\, United States
ATTACH;FMTTYPE=image/jpeg:https://conversationswithourfather.com/wp-content/uploads/2023/07/AV_loving_me_book_release_09.17_art.jpg
END:VEVENT
BEGIN:VEVENT
DTSTART;TZID=America/New_York:20230618T093000
DTEND;TZID=America/New_York:20230618T170000
DTSTAMP:20260423T130825
CREATED:20230613T074548Z
LAST-MODIFIED:20230613T074548Z
UID:96-1687080600-1687107600@conversationswithourfather.com
SUMMARY:Broadcast Premier of "Conversations With Our Father"
DESCRIPTION:Pizza King has the honor of hosting the premiere party of the upcoming radio show “Conversations with Our Father” hosted by Sanna Phillips airing on 93.3 HOPE FM.\nAs part of “Conversations with Our Father” the owner of Pizza King\, Ronnie Bridges is being selected as this year’s Honorary “Community Father”.\nJoin host Sanna Phillips for Blue Mountain Coffee\, pastries from Sugar Creek Bakery\, and delightful conversation.\nRSVP is requested.
URL:https://conversationswithourfather.com/event/broadcast-premier-of-conversations-with-our-father/
LOCATION:Pizza King\, 500 S 3rd Ave\, Ste 11\, Chatsworth\, GA\, 30705\, United States
END:VEVENT
END:VCALENDAR